BEGIN:VCALENDAR
VERSION:2.0
PRODID:-// - ECPv6.15.20//NONSGML v1.0//EN
CALSCALE:GREGORIAN
METHOD:PUBLISH
X-ORIGINAL-URL:https://universal-timing.com
X-WR-CALDESC:Évènements pour 
REFRESH-INTERVAL;VALUE=DURATION:PT1H
X-Robots-Tag:noindex
X-PUBLISHED-TTL:PT1H
BEGIN:VTIMEZONE
TZID:UTC
BEGIN:STANDARD
TZOFFSETFROM:+0000
TZOFFSETTO:+0000
TZNAME:UTC
DTSTART:20240101T000000
END:STANDARD
END:VTIMEZONE
BEGIN:VEVENT
DTSTART;VALUE=DATE:20250511
DTEND;VALUE=DATE:20250512
DTSTAMP:20260420T121821
CREATED:20250302T155107Z
LAST-MODIFIED:20250313T064945Z
UID:266-1746921600-1747007999@universal-timing.com
SUMMARY:VIRA LOU MAÏ 2025
DESCRIPTION:
URL:https://universal-timing.com/evenement/vira-lou-mai-2025/
CATEGORIES:COURSE A PIED / TRAIL
ATTACH;FMTTYPE=image/jpeg:https://universal-timing.com/wp-content/uploads/2025/03/AFFICHE.jpg
END:VEVENT
END:VCALENDAR