BEGIN:VCALENDAR
VERSION:2.0
PRODID:-// - ECPv6.15.20//NONSGML v1.0//EN
CALSCALE:GREGORIAN
METHOD:PUBLISH
X-ORIGINAL-URL:https://universal-timing.com
X-WR-CALDESC:Évènements pour 
REFRESH-INTERVAL;VALUE=DURATION:PT1H
X-Robots-Tag:noindex
X-PUBLISHED-TTL:PT1H
BEGIN:VTIMEZONE
TZID:UTC
BEGIN:STANDARD
TZOFFSETFROM:+0000
TZOFFSETTO:+0000
TZNAME:UTC
DTSTART:20240101T000000
END:STANDARD
END:VTIMEZONE
BEGIN:VEVENT
DTSTART;TZID=UTC:20250112T080000
DTEND;TZID=UTC:20250112T170000
DTSTAMP:20260420T101545
CREATED:20250307T154857Z
LAST-MODIFIED:20250307T160548Z
UID:753-1736668800-1736701200@universal-timing.com
SUMMARY:TRAIL DES CRETES 2025
DESCRIPTION:
URL:https://universal-timing.com/evenement/trail-des-cretes-2025/
LOCATION:Gréolières les neiges\, Gréolières les neiges\, paca\, 06620\, France
CATEGORIES:COURSE A PIED / TRAIL
ATTACH;FMTTYPE=image/png:https://universal-timing.com/wp-content/uploads/2025/03/affiche-Trail-des-cretes.png
END:VEVENT
END:VCALENDAR