BEGIN:VCALENDAR
VERSION:2.0
PRODID:-// - ECPv6.15.20//NONSGML v1.0//EN
CALSCALE:GREGORIAN
METHOD:PUBLISH
X-ORIGINAL-URL:https://universal-timing.com
X-WR-CALDESC:Évènements pour 
REFRESH-INTERVAL;VALUE=DURATION:PT1H
X-Robots-Tag:noindex
X-PUBLISHED-TTL:PT1H
BEGIN:VTIMEZONE
TZID:UTC
BEGIN:STANDARD
TZOFFSETFROM:+0000
TZOFFSETTO:+0000
TZNAME:UTC
DTSTART:20240101T000000
END:STANDARD
END:VTIMEZONE
BEGIN:VEVENT
DTSTART;TZID=UTC:20250928T080000
DTEND;TZID=UTC:20250928T170000
DTSTAMP:20260420T104337
CREATED:20250624T170525Z
LAST-MODIFIED:20250923T134124Z
UID:1526-1759046400-1759078800@universal-timing.com
SUMMARY:ADHEX Cross Duathlon Chenôve 2025
DESCRIPTION:
URL:https://universal-timing.com/evenement/adhex-cross-duathlon-chenove-2025/
LOCATION:Chenôve\, Maison du Plateau\, Chenôve\, 21300\, France
CATEGORIES:TODAY,TRIATHLON / DUATHLON
ATTACH;FMTTYPE=image/jpeg:https://universal-timing.com/wp-content/uploads/2025/06/chenove-duathlon-image-pour-site-UT.jpg
END:VEVENT
END:VCALENDAR